BEGIN:VCALENDAR
VERSION:2.0
PRODID:-//Stichting #FRUIT - ECPv6.15.20//NONSGML v1.0//EN
CALSCALE:GREGORIAN
METHOD:PUBLISH
X-WR-CALNAME:Stichting #FRUIT
X-ORIGINAL-URL:https://hekjefruit.nl
X-WR-CALDESC:Evenementen voor Stichting #FRUIT
REFRESH-INTERVAL;VALUE=DURATION:PT1H
X-Robots-Tag:noindex
X-PUBLISHED-TTL:PT1H
BEGIN:VTIMEZONE
TZID:Europe/Amsterdam
BEGIN:DAYLIGHT
TZOFFSETFROM:+0100
TZOFFSETTO:+0200
TZNAME:CEST
DTSTART:20240331T010000
END:DAYLIGHT
BEGIN:STANDARD
TZOFFSETFROM:+0200
TZOFFSETTO:+0100
TZNAME:CET
DTSTART:20241027T010000
END:STANDARD
BEGIN:DAYLIGHT
TZOFFSETFROM:+0100
TZOFFSETTO:+0200
TZNAME:CEST
DTSTART:20250330T010000
END:DAYLIGHT
BEGIN:STANDARD
TZOFFSETFROM:+0200
TZOFFSETTO:+0100
TZNAME:CET
DTSTART:20251026T010000
END:STANDARD
BEGIN:DAYLIGHT
TZOFFSETFROM:+0100
TZOFFSETTO:+0200
TZNAME:CEST
DTSTART:20260329T010000
END:DAYLIGHT
BEGIN:STANDARD
TZOFFSETFROM:+0200
TZOFFSETTO:+0100
TZNAME:CET
DTSTART:20261025T010000
END:STANDARD
END:VTIMEZONE
BEGIN:VEVENT
DTSTART;TZID=Europe/Amsterdam:20250827T190000
DTEND;TZID=Europe/Amsterdam:20250827T210000
DTSTAMP:20260425T183528
CREATED:20250310T205705Z
LAST-MODIFIED:20250310T205705Z
UID:476-1756321200-1756328400@hekjefruit.nl
SUMMARY:Werkavond Pluktuin met nazit
DESCRIPTION:De vrijwilligers kweken in de tuin bloemen\, kruiden en kleinfruit. Werkzaamheden zijn planten\, wieden en watergeven. En daarnaast gezellig samen-zijn. Wil je een keer meedoen\, kom dan gewoon langs! De werkavond wordt afgesloten met een drankje\, een hapje en een praatje.
URL:https://hekjefruit.nl/event/werkavond-pluktuin-met-nazit-4/
LOCATION:Pluktuin Marina Poussart\, Luxemburghof\, Sittard\, 6137 LK
ORGANIZER;CN="Pluktuingroep":MAILTO:info@hekjefruit.nl
END:VEVENT
BEGIN:VEVENT
DTSTART;TZID=Europe/Amsterdam:20250823T100000
DTEND;TZID=Europe/Amsterdam:20250823T123000
DTSTAMP:20260425T183528
CREATED:20250330T200912Z
LAST-MODIFIED:20250424T190840Z
UID:526-1755943200-1755952200@hekjefruit.nl
SUMMARY:Werkdag Fruit Oppe Grens
DESCRIPTION:Met een groep vrijwilligers worden de fruitbomen onderhouden. Sommige bomen hebben snoei in het vroege voorjaar nodig\, andere als ze in het blad zitten of vlak na de oogst. Het snoeiafval wordt opgeruimd en waar mogelijk verwerkt in takkenrillen. Zonodig worden dode bomen verwijderd en nieuwe bomen geplant. Wie tijd en zin heeft\, komt. Iedereen werkt naar eigen kracht en kunnen. Vrijblijvendheid en gezelligheid staan voorop. Wil je een keer meedoen\, kom dan gewoon langs!
URL:https://hekjefruit.nl/event/werkdag-fruit-oppe-grens-17/
LOCATION:Fruitbomen Sittard Oost\, Luxemburghof\, Sittard
ORGANIZER;CN="Snoeigroep Fruit Oppe Grens":MAILTO:info@hekjefruit.nl
END:VEVENT
BEGIN:VEVENT
DTSTART;TZID=Europe/Amsterdam:20250816T093000
DTEND;TZID=Europe/Amsterdam:20250816T130000
DTSTAMP:20260425T183528
CREATED:20250330T200839Z
LAST-MODIFIED:20250330T200839Z
UID:513-1755336600-1755349200@hekjefruit.nl
SUMMARY:Werkdag Lahrhof
DESCRIPTION:Met een groep vrijwilligers worden de fruitbomen onderhouden. Sommige bomen hebben snoei in het vroege voorjaar nodig\, andere als ze in het blad zitten of vlak na de oogst. Het snoeiafval wordt opgeruimd en waar mogelijk verwerkt in takkenrillen. Zonodig worden dode bomen verwijderd en nieuwe bomen geplant. Wie tijd en zin heeft\, komt. Iedereen werkt naar eigen kracht en kunnen. Vrijblijvendheid en gezelligheid staan voorop. Wil je een keer meedoen\, kom dan gewoon langs!
URL:https://hekjefruit.nl/event/werkdag-lahrhof-14/
LOCATION:Boomgaard Lahrhof\, Lahrstraat 95\, Sittard\, 6137 LG
ORGANIZER;CN="Snoeigroep Lahrhof":MAILTO:info@hekjefruit.nl
END:VEVENT
BEGIN:VEVENT
DTSTART;TZID=Europe/Amsterdam:20250816T093000
DTEND;TZID=Europe/Amsterdam:20250816T120000
DTSTAMP:20260425T183528
CREATED:20250310T205651Z
LAST-MODIFIED:20250310T205651Z
UID:475-1755336600-1755345600@hekjefruit.nl
SUMMARY:Werkdag Pluktuin
DESCRIPTION:De vrijwilligers kweken in de tuin bloemen\, kruiden en kleinfruit. Werkzaamheden zijn planten\, wieden en watergeven. En daarnaast gezellig samen-zijn. Wil je een keer meedoen\, kom dan gewoon langs!
URL:https://hekjefruit.nl/event/werkdag-pluktuin-14/
LOCATION:Pluktuin Marina Poussart\, Luxemburghof\, Sittard\, 6137 LK
ORGANIZER;CN="Pluktuingroep":MAILTO:info@hekjefruit.nl
END:VEVENT
BEGIN:VEVENT
DTSTART;TZID=Europe/Amsterdam:20250809T100000
DTEND;TZID=Europe/Amsterdam:20250809T123000
DTSTAMP:20260425T183528
CREATED:20250330T200911Z
LAST-MODIFIED:20250330T200911Z
UID:525-1754733600-1754742600@hekjefruit.nl
SUMMARY:Werkdag Fruit Oppe Grens
DESCRIPTION:Met een groep vrijwilligers worden de fruitbomen onderhouden. Sommige bomen hebben snoei in het vroege voorjaar nodig\, andere als ze in het blad zitten of vlak na de oogst. Het snoeiafval wordt opgeruimd en waar mogelijk verwerkt in takkenrillen. Zonodig worden dode bomen verwijderd en nieuwe bomen geplant. Wie tijd en zin heeft\, komt. Iedereen werkt naar eigen kracht en kunnen. Vrijblijvendheid en gezelligheid staan voorop. Wil je een keer meedoen\, kom dan gewoon langs!
URL:https://hekjefruit.nl/event/werkdag-fruit-oppe-grens-16/
LOCATION:Fruitbomen Sittard Oost\, Luxemburghof\, Sittard
ORGANIZER;CN="Snoeigroep Fruit Oppe Grens":MAILTO:info@hekjefruit.nl
END:VEVENT
BEGIN:VEVENT
DTSTART;TZID=Europe/Amsterdam:20250802T093000
DTEND;TZID=Europe/Amsterdam:20250802T120000
DTSTAMP:20260425T183528
CREATED:20250310T205651Z
LAST-MODIFIED:20250310T205651Z
UID:474-1754127000-1754136000@hekjefruit.nl
SUMMARY:Werkdag Pluktuin
DESCRIPTION:De vrijwilligers kweken in de tuin bloemen\, kruiden en kleinfruit. Werkzaamheden zijn planten\, wieden en watergeven. En daarnaast gezellig samen-zijn. Wil je een keer meedoen\, kom dan gewoon langs!
URL:https://hekjefruit.nl/event/werkdag-pluktuin-13/
LOCATION:Pluktuin Marina Poussart\, Luxemburghof\, Sittard\, 6137 LK
ORGANIZER;CN="Pluktuingroep":MAILTO:info@hekjefruit.nl
END:VEVENT
BEGIN:VEVENT
DTSTART;TZID=Europe/Amsterdam:20250730T190000
DTEND;TZID=Europe/Amsterdam:20250730T210000
DTSTAMP:20260425T183528
CREATED:20250310T205650Z
LAST-MODIFIED:20250310T205650Z
UID:473-1753902000-1753909200@hekjefruit.nl
SUMMARY:Werkavond Pluktuin met nazit
DESCRIPTION:De vrijwilligers kweken in de tuin bloemen\, kruiden en kleinfruit. Werkzaamheden zijn planten\, wieden en watergeven. En daarnaast gezellig samen-zijn. Wil je een keer meedoen\, kom dan gewoon langs! De werkavond wordt afgesloten met een drankje\, een hapje en een praatje.
URL:https://hekjefruit.nl/event/werkavond-pluktuin-met-nazit-3/
LOCATION:Pluktuin Marina Poussart\, Luxemburghof\, Sittard\, 6137 LK
ORGANIZER;CN="Pluktuingroep":MAILTO:info@hekjefruit.nl
END:VEVENT
BEGIN:VEVENT
DTSTART;TZID=Europe/Amsterdam:20250726T100000
DTEND;TZID=Europe/Amsterdam:20250726T123000
DTSTAMP:20260425T183528
CREATED:20250330T200911Z
LAST-MODIFIED:20250424T190743Z
UID:524-1753524000-1753533000@hekjefruit.nl
SUMMARY:Werkdag Fruit Oppe Grens
DESCRIPTION:Met een groep vrijwilligers worden de fruitbomen onderhouden. Sommige bomen hebben snoei in het vroege voorjaar nodig\, andere als ze in het blad zitten of vlak na de oogst. Het snoeiafval wordt opgeruimd en waar mogelijk verwerkt in takkenrillen. Zonodig worden dode bomen verwijderd en nieuwe bomen geplant. Wie tijd en zin heeft\, komt. Iedereen werkt naar eigen kracht en kunnen. Vrijblijvendheid en gezelligheid staan voorop. Wil je een keer meedoen\, kom dan gewoon langs!
URL:https://hekjefruit.nl/event/werkdag-fruit-oppe-grens-15/
LOCATION:Fruitbomen Sittard Oost\, Luxemburghof\, Sittard
ORGANIZER;CN="Snoeigroep Fruit Oppe Grens":MAILTO:info@hekjefruit.nl
END:VEVENT
BEGIN:VEVENT
DTSTART;TZID=Europe/Amsterdam:20250719T093000
DTEND;TZID=Europe/Amsterdam:20250719T130000
DTSTAMP:20260425T183528
CREATED:20250330T200839Z
LAST-MODIFIED:20250330T200839Z
UID:512-1752917400-1752930000@hekjefruit.nl
SUMMARY:Werkdag Lahrhof
DESCRIPTION:Met een groep vrijwilligers worden de fruitbomen onderhouden. Sommige bomen hebben snoei in het vroege voorjaar nodig\, andere als ze in het blad zitten of vlak na de oogst. Het snoeiafval wordt opgeruimd en waar mogelijk verwerkt in takkenrillen. Zonodig worden dode bomen verwijderd en nieuwe bomen geplant. Wie tijd en zin heeft\, komt. Iedereen werkt naar eigen kracht en kunnen. Vrijblijvendheid en gezelligheid staan voorop. Wil je een keer meedoen\, kom dan gewoon langs!
URL:https://hekjefruit.nl/event/werkdag-lahrhof-13/
LOCATION:Boomgaard Lahrhof\, Lahrstraat 95\, Sittard\, 6137 LG
ORGANIZER;CN="Snoeigroep Lahrhof":MAILTO:info@hekjefruit.nl
END:VEVENT
BEGIN:VEVENT
DTSTART;TZID=Europe/Amsterdam:20250719T093000
DTEND;TZID=Europe/Amsterdam:20250719T120000
DTSTAMP:20260425T183528
CREATED:20250310T205650Z
LAST-MODIFIED:20250310T205650Z
UID:472-1752917400-1752926400@hekjefruit.nl
SUMMARY:Werkdag Pluktuin
DESCRIPTION:De vrijwilligers kweken in de tuin bloemen\, kruiden en kleinfruit. Werkzaamheden zijn planten\, wieden en watergeven. En daarnaast gezellig samen-zijn. Wil je een keer meedoen\, kom dan gewoon langs!
URL:https://hekjefruit.nl/event/werkdag-pluktuin-12/
LOCATION:Pluktuin Marina Poussart\, Luxemburghof\, Sittard\, 6137 LK
ORGANIZER;CN="Pluktuingroep":MAILTO:info@hekjefruit.nl
END:VEVENT
BEGIN:VEVENT
DTSTART;TZID=Europe/Amsterdam:20250712T100000
DTEND;TZID=Europe/Amsterdam:20250712T123000
DTSTAMP:20260425T183528
CREATED:20250330T200911Z
LAST-MODIFIED:20250330T200911Z
UID:523-1752314400-1752323400@hekjefruit.nl
SUMMARY:Werkdag Fruit Oppe Grens
DESCRIPTION:Met een groep vrijwilligers worden de fruitbomen onderhouden. Sommige bomen hebben snoei in het vroege voorjaar nodig\, andere als ze in het blad zitten of vlak na de oogst. Het snoeiafval wordt opgeruimd en waar mogelijk verwerkt in takkenrillen. Zonodig worden dode bomen verwijderd en nieuwe bomen geplant. Wie tijd en zin heeft\, komt. Iedereen werkt naar eigen kracht en kunnen. Vrijblijvendheid en gezelligheid staan voorop. Wil je een keer meedoen\, kom dan gewoon langs!
URL:https://hekjefruit.nl/event/werkdag-fruit-oppe-grens-14/
LOCATION:Fruitbomen Sittard Oost\, Luxemburghof\, Sittard
ORGANIZER;CN="Snoeigroep Fruit Oppe Grens":MAILTO:info@hekjefruit.nl
END:VEVENT
BEGIN:VEVENT
DTSTART;TZID=Europe/Amsterdam:20250705T093000
DTEND;TZID=Europe/Amsterdam:20250705T120000
DTSTAMP:20260425T183528
CREATED:20250310T205650Z
LAST-MODIFIED:20250310T205650Z
UID:471-1751707800-1751716800@hekjefruit.nl
SUMMARY:Werkdag Pluktuin
DESCRIPTION:De vrijwilligers kweken in de tuin bloemen\, kruiden en kleinfruit. Werkzaamheden zijn planten\, wieden en watergeven. En daarnaast gezellig samen-zijn. Wil je een keer meedoen\, kom dan gewoon langs!
URL:https://hekjefruit.nl/event/werkdag-pluktuin-11/
LOCATION:Pluktuin Marina Poussart\, Luxemburghof\, Sittard\, 6137 LK
ORGANIZER;CN="Pluktuingroep":MAILTO:info@hekjefruit.nl
END:VEVENT
BEGIN:VEVENT
DTSTART;TZID=Europe/Amsterdam:20250625T190000
DTEND;TZID=Europe/Amsterdam:20250625T210000
DTSTAMP:20260425T183528
CREATED:20250310T205636Z
LAST-MODIFIED:20250310T205636Z
UID:470-1750878000-1750885200@hekjefruit.nl
SUMMARY:Werkavond Pluktuin met nazit
DESCRIPTION:De vrijwilligers kweken in de tuin bloemen\, kruiden en kleinfruit. Werkzaamheden zijn planten\, wieden en watergeven. En daarnaast gezellig samen-zijn. Wil je een keer meedoen\, kom dan gewoon langs! De werkavond wordt afgesloten met een drankje\, een hapje en een praatje.
URL:https://hekjefruit.nl/event/werkavond-pluktuin-met-nazit-2/
LOCATION:Pluktuin Marina Poussart\, Luxemburghof\, Sittard\, 6137 LK
ORGANIZER;CN="Pluktuingroep":MAILTO:info@hekjefruit.nl
END:VEVENT
BEGIN:VEVENT
DTSTART;TZID=Europe/Amsterdam:20250621T093000
DTEND;TZID=Europe/Amsterdam:20250621T130000
DTSTAMP:20260425T183528
CREATED:20250330T200838Z
LAST-MODIFIED:20250330T200838Z
UID:511-1750498200-1750510800@hekjefruit.nl
SUMMARY:Werkdag Lahrhof
DESCRIPTION:Met een groep vrijwilligers worden de fruitbomen onderhouden. Sommige bomen hebben snoei in het vroege voorjaar nodig\, andere als ze in het blad zitten of vlak na de oogst. Het snoeiafval wordt opgeruimd en waar mogelijk verwerkt in takkenrillen. Zonodig worden dode bomen verwijderd en nieuwe bomen geplant. Wie tijd en zin heeft\, komt. Iedereen werkt naar eigen kracht en kunnen. Vrijblijvendheid en gezelligheid staan voorop. Wil je een keer meedoen\, kom dan gewoon langs!
URL:https://hekjefruit.nl/event/werkdag-lahrhof-12/
LOCATION:Boomgaard Lahrhof\, Lahrstraat 95\, Sittard\, 6137 LG
ORGANIZER;CN="Snoeigroep Lahrhof":MAILTO:info@hekjefruit.nl
END:VEVENT
BEGIN:VEVENT
DTSTART;TZID=Europe/Amsterdam:20250621T093000
DTEND;TZID=Europe/Amsterdam:20250621T120000
DTSTAMP:20260425T183528
CREATED:20250310T205635Z
LAST-MODIFIED:20250310T205635Z
UID:469-1750498200-1750507200@hekjefruit.nl
SUMMARY:Werkdag Pluktuin
DESCRIPTION:De vrijwilligers kweken in de tuin bloemen\, kruiden en kleinfruit. Werkzaamheden zijn planten\, wieden en watergeven. En daarnaast gezellig samen-zijn. Wil je een keer meedoen\, kom dan gewoon langs!
URL:https://hekjefruit.nl/event/werkdag-pluktuin-10/
LOCATION:Pluktuin Marina Poussart\, Luxemburghof\, Sittard\, 6137 LK
ORGANIZER;CN="Pluktuingroep":MAILTO:info@hekjefruit.nl
END:VEVENT
BEGIN:VEVENT
DTSTART;TZID=Europe/Amsterdam:20250614T100000
DTEND;TZID=Europe/Amsterdam:20250614T123000
DTSTAMP:20260425T183528
CREATED:20250330T200911Z
LAST-MODIFIED:20250424T190521Z
UID:522-1749895200-1749904200@hekjefruit.nl
SUMMARY:Werkdag Fruit Oppe Grens
DESCRIPTION:Met een groep vrijwilligers worden de fruitbomen onderhouden. Sommige bomen hebben snoei in het vroege voorjaar nodig\, andere als ze in het blad zitten of vlak na de oogst. Het snoeiafval wordt opgeruimd en waar mogelijk verwerkt in takkenrillen. Zonodig worden dode bomen verwijderd en nieuwe bomen geplant. Wie tijd en zin heeft\, komt. Iedereen werkt naar eigen kracht en kunnen. Vrijblijvendheid en gezelligheid staan voorop. Wil je een keer meedoen\, kom dan gewoon langs!
URL:https://hekjefruit.nl/event/werkdag-fruit-oppe-grens-13/
LOCATION:Fruitbomen Sittard Oost\, Luxemburghof\, Sittard
ORGANIZER;CN="Snoeigroep Fruit Oppe Grens":MAILTO:info@hekjefruit.nl
END:VEVENT
BEGIN:VEVENT
DTSTART;TZID=Europe/Amsterdam:20250611T183000
DTEND;TZID=Europe/Amsterdam:20250611T210000
DTSTAMP:20260425T183528
CREATED:20250310T205635Z
LAST-MODIFIED:20250607T115227Z
UID:468-1749666600-1749675600@hekjefruit.nl
SUMMARY:Werkdag Pluktuin
DESCRIPTION:Werkdag van za. 7 juni is vanwege het verwachtte weer verplaatst naar deze woensdag. \nDe vrijwilligers kweken in de tuin bloemen\, kruiden en kleinfruit. Werkzaamheden zijn planten\, wieden en watergeven. En daarnaast gezellig samen-zijn. Wil je een keer meedoen\, kom dan gewoon langs!
URL:https://hekjefruit.nl/event/werkdag-pluktuin-9/
LOCATION:Pluktuin Marina Poussart\, Luxemburghof\, Sittard\, 6137 LK
ORGANIZER;CN="Pluktuingroep":MAILTO:info@hekjefruit.nl
END:VEVENT
BEGIN:VEVENT
DTSTART;TZID=Europe/Amsterdam:20250528T190000
DTEND;TZID=Europe/Amsterdam:20250528T210000
DTSTAMP:20260425T183528
CREATED:20250310T205634Z
LAST-MODIFIED:20250310T205634Z
UID:467-1748458800-1748466000@hekjefruit.nl
SUMMARY:Werkavond Pluktuin met nazit
DESCRIPTION:De vrijwilligers kweken in de tuin bloemen\, kruiden en kleinfruit. Werkzaamheden zijn planten\, wieden en watergeven. En daarnaast gezellig samen-zijn. Wil je een keer meedoen\, kom dan gewoon langs! De werkavond wordt afgesloten met een drankje\, een hapje en een praatje.
URL:https://hekjefruit.nl/event/werkavond-pluktuin-met-nazit/
LOCATION:Pluktuin Marina Poussart\, Luxemburghof\, Sittard\, 6137 LK
ORGANIZER;CN="Pluktuingroep":MAILTO:info@hekjefruit.nl
END:VEVENT
BEGIN:VEVENT
DTSTART;TZID=Europe/Amsterdam:20250517T093000
DTEND;TZID=Europe/Amsterdam:20250517T130000
DTSTAMP:20260425T183528
CREATED:20250330T200838Z
LAST-MODIFIED:20250514T120229Z
UID:510-1747474200-1747486800@hekjefruit.nl
SUMMARY:Werkdag Lahrhof
DESCRIPTION:Met een groep vrijwilligers worden de fruitbomen onderhouden. Sommige bomen hebben snoei in het vroege voorjaar nodig\, andere als ze in het blad zitten of vlak na de oogst. Het snoeiafval wordt opgeruimd en waar mogelijk verwerkt in takkenrillen. Zonodig worden dode bomen verwijderd en nieuwe bomen geplant. Wie tijd en zin heeft\, komt. Iedereen werkt naar eigen kracht en kunnen. Vrijblijvendheid en gezelligheid staan voorop. Wil je een keer meedoen\, kom dan gewoon langs!
URL:https://hekjefruit.nl/event/werkdag-lahrhof-11/
LOCATION:Boomgaard Lahrhof\, Lahrstraat 95\, Sittard\, 6137 LG
ORGANIZER;CN="Snoeigroep Lahrhof":MAILTO:info@hekjefruit.nl
END:VEVENT
BEGIN:VEVENT
DTSTART;TZID=Europe/Amsterdam:20250517T093000
DTEND;TZID=Europe/Amsterdam:20250517T120000
DTSTAMP:20260425T183528
CREATED:20250310T205634Z
LAST-MODIFIED:20250310T205634Z
UID:466-1747474200-1747483200@hekjefruit.nl
SUMMARY:Werkdag Pluktuin
DESCRIPTION:De vrijwilligers kweken in de tuin bloemen\, kruiden en kleinfruit. Werkzaamheden zijn planten\, wieden en watergeven. En daarnaast gezellig samen-zijn. Wil je een keer meedoen\, kom dan gewoon langs!
URL:https://hekjefruit.nl/event/werkdag-pluktuin-8/
LOCATION:Pluktuin Marina Poussart\, Luxemburghof\, Sittard\, 6137 LK
ORGANIZER;CN="Pluktuingroep":MAILTO:info@hekjefruit.nl
END:VEVENT
BEGIN:VEVENT
DTSTART;TZID=Europe/Amsterdam:20250510T100000
DTEND;TZID=Europe/Amsterdam:20250510T123000
DTSTAMP:20260425T183528
CREATED:20250330T200856Z
LAST-MODIFIED:20250514T120155Z
UID:521-1746871200-1746880200@hekjefruit.nl
SUMMARY:Werkdag Fruit Oppe Grens
DESCRIPTION:Met een groep vrijwilligers worden de fruitbomen onderhouden. Sommige bomen hebben snoei in het vroege voorjaar nodig\, andere als ze in het blad zitten of vlak na de oogst. Het snoeiafval wordt opgeruimd en waar mogelijk verwerkt in takkenrillen. Zonodig worden dode bomen verwijderd en nieuwe bomen geplant. Wie tijd en zin heeft\, komt. Iedereen werkt naar eigen kracht en kunnen. Vrijblijvendheid en gezelligheid staan voorop. Wil je een keer meedoen\, kom dan gewoon langs!
URL:https://hekjefruit.nl/event/werkdag-fruit-oppe-grens-12/
LOCATION:Fruitbomen Sittard Oost\, Luxemburghof\, Sittard
ORGANIZER;CN="Snoeigroep Fruit Oppe Grens":MAILTO:info@hekjefruit.nl
END:VEVENT
BEGIN:VEVENT
DTSTART;TZID=Europe/Amsterdam:20250503T093000
DTEND;TZID=Europe/Amsterdam:20250503T130000
DTSTAMP:20260425T183528
CREATED:20250330T200837Z
LAST-MODIFIED:20250330T200837Z
UID:509-1746264600-1746277200@hekjefruit.nl
SUMMARY:Werkdag Lahrhof
DESCRIPTION:Met een groep vrijwilligers worden de fruitbomen onderhouden. Sommige bomen hebben snoei in het vroege voorjaar nodig\, andere als ze in het blad zitten of vlak na de oogst. Het snoeiafval wordt opgeruimd en waar mogelijk verwerkt in takkenrillen. Zonodig worden dode bomen verwijderd en nieuwe bomen geplant. Wie tijd en zin heeft\, komt. Iedereen werkt naar eigen kracht en kunnen. Vrijblijvendheid en gezelligheid staan voorop. Wil je een keer meedoen\, kom dan gewoon langs!
URL:https://hekjefruit.nl/event/werkdag-lahrhof-10/
LOCATION:Boomgaard Lahrhof\, Lahrstraat 95\, Sittard\, 6137 LG
ORGANIZER;CN="Snoeigroep Lahrhof":MAILTO:info@hekjefruit.nl
END:VEVENT
BEGIN:VEVENT
DTSTART;TZID=Europe/Amsterdam:20250503T093000
DTEND;TZID=Europe/Amsterdam:20250503T120000
DTSTAMP:20260425T183528
CREATED:20250310T205633Z
LAST-MODIFIED:20250310T205633Z
UID:465-1746264600-1746273600@hekjefruit.nl
SUMMARY:Werkdag Pluktuin
DESCRIPTION:De vrijwilligers kweken in de tuin bloemen\, kruiden en kleinfruit. Werkzaamheden zijn planten\, wieden en watergeven. En daarnaast gezellig samen-zijn. Wil je een keer meedoen\, kom dan gewoon langs!
URL:https://hekjefruit.nl/event/werkdag-pluktuin-7/
LOCATION:Pluktuin Marina Poussart\, Luxemburghof\, Sittard\, 6137 LK
ORGANIZER;CN="Pluktuingroep":MAILTO:info@hekjefruit.nl
END:VEVENT
END:VCALENDAR