BEGIN:VCALENDAR
VERSION:2.0
PRODID:-//Stichting #FRUIT - ECPv6.15.20//NONSGML v1.0//EN
CALSCALE:GREGORIAN
METHOD:PUBLISH
X-WR-CALNAME:Stichting #FRUIT
X-ORIGINAL-URL:https://hekjefruit.nl
X-WR-CALDESC:Evenementen voor Stichting #FRUIT
REFRESH-INTERVAL;VALUE=DURATION:PT1H
X-Robots-Tag:noindex
X-PUBLISHED-TTL:PT1H
BEGIN:VTIMEZONE
TZID:Europe/Amsterdam
BEGIN:DAYLIGHT
TZOFFSETFROM:+0100
TZOFFSETTO:+0200
TZNAME:CEST
DTSTART:20240331T010000
END:DAYLIGHT
BEGIN:STANDARD
TZOFFSETFROM:+0200
TZOFFSETTO:+0100
TZNAME:CET
DTSTART:20241027T010000
END:STANDARD
BEGIN:DAYLIGHT
TZOFFSETFROM:+0100
TZOFFSETTO:+0200
TZNAME:CEST
DTSTART:20250330T010000
END:DAYLIGHT
BEGIN:STANDARD
TZOFFSETFROM:+0200
TZOFFSETTO:+0100
TZNAME:CET
DTSTART:20251026T010000
END:STANDARD
BEGIN:DAYLIGHT
TZOFFSETFROM:+0100
TZOFFSETTO:+0200
TZNAME:CEST
DTSTART:20260329T010000
END:DAYLIGHT
BEGIN:STANDARD
TZOFFSETFROM:+0200
TZOFFSETTO:+0100
TZNAME:CET
DTSTART:20261025T010000
END:STANDARD
END:VTIMEZONE
BEGIN:VTIMEZONE
TZID:Europe/Helsinki
BEGIN:DAYLIGHT
TZOFFSETFROM:+0200
TZOFFSETTO:+0300
TZNAME:EEST
DTSTART:20240331T010000
END:DAYLIGHT
BEGIN:STANDARD
TZOFFSETFROM:+0300
TZOFFSETTO:+0200
TZNAME:EET
DTSTART:20241027T010000
END:STANDARD
BEGIN:DAYLIGHT
TZOFFSETFROM:+0200
TZOFFSETTO:+0300
TZNAME:EEST
DTSTART:20250330T010000
END:DAYLIGHT
BEGIN:STANDARD
TZOFFSETFROM:+0300
TZOFFSETTO:+0200
TZNAME:EET
DTSTART:20251026T010000
END:STANDARD
BEGIN:DAYLIGHT
TZOFFSETFROM:+0200
TZOFFSETTO:+0300
TZNAME:EEST
DTSTART:20260329T010000
END:DAYLIGHT
BEGIN:STANDARD
TZOFFSETFROM:+0300
TZOFFSETTO:+0200
TZNAME:EET
DTSTART:20261025T010000
END:STANDARD
END:VTIMEZONE
BEGIN:VEVENT
DTSTART;TZID=Europe/Amsterdam:20251220T093000
DTEND;TZID=Europe/Amsterdam:20251220T130000
DTSTAMP:20260425T162806
CREATED:20250330T200855Z
LAST-MODIFIED:20250330T200855Z
UID:517-1766223000-1766235600@hekjefruit.nl
SUMMARY:Werkdag Lahrhof
DESCRIPTION:Met een groep vrijwilligers worden de fruitbomen onderhouden. Sommige bomen hebben snoei in het vroege voorjaar nodig\, andere als ze in het blad zitten of vlak na de oogst. Het snoeiafval wordt opgeruimd en waar mogelijk verwerkt in takkenrillen. Zonodig worden dode bomen verwijderd en nieuwe bomen geplant. Wie tijd en zin heeft\, komt. Iedereen werkt naar eigen kracht en kunnen. Vrijblijvendheid en gezelligheid staan voorop. Wil je een keer meedoen\, kom dan gewoon langs!
URL:https://hekjefruit.nl/event/werkdag-lahrhof-18/
LOCATION:Boomgaard Lahrhof\, Lahrstraat 95\, Sittard\, 6137 LG
ORGANIZER;CN="Snoeigroep Lahrhof":MAILTO:info@hekjefruit.nl
END:VEVENT
BEGIN:VEVENT
DTSTART;TZID=Europe/Amsterdam:20251220T093000
DTEND;TZID=Europe/Amsterdam:20251220T120000
DTSTAMP:20260425T162806
CREATED:20250310T205722Z
LAST-MODIFIED:20250310T205722Z
UID:485-1766223000-1766232000@hekjefruit.nl
SUMMARY:Werkdag Pluktuin
DESCRIPTION:De vrijwilligers kweken in de tuin bloemen\, kruiden en kleinfruit. Werkzaamheden zijn planten\, wieden en watergeven. En daarnaast gezellig samen-zijn. Wil je een keer meedoen\, kom dan gewoon langs!
URL:https://hekjefruit.nl/event/werkdag-pluktuin-22/
LOCATION:Pluktuin Marina Poussart\, Luxemburghof\, Sittard\, 6137 LK
ORGANIZER;CN="Pluktuingroep":MAILTO:info@hekjefruit.nl
END:VEVENT
BEGIN:VEVENT
DTSTART;TZID=Europe/Amsterdam:20251206T093000
DTEND;TZID=Europe/Amsterdam:20251206T120000
DTSTAMP:20260425T162806
CREATED:20250310T205722Z
LAST-MODIFIED:20250310T205722Z
UID:484-1765013400-1765022400@hekjefruit.nl
SUMMARY:Werkdag Pluktuin
DESCRIPTION:De vrijwilligers kweken in de tuin bloemen\, kruiden en kleinfruit. Werkzaamheden zijn planten\, wieden en watergeven. En daarnaast gezellig samen-zijn. Wil je een keer meedoen\, kom dan gewoon langs!
URL:https://hekjefruit.nl/event/werkdag-pluktuin-21/
LOCATION:Pluktuin Marina Poussart\, Luxemburghof\, Sittard\, 6137 LK
ORGANIZER;CN="Pluktuingroep":MAILTO:info@hekjefruit.nl
END:VEVENT
BEGIN:VEVENT
DTSTART;TZID=Europe/Amsterdam:20251122T100000
DTEND;TZID=Europe/Amsterdam:20251122T123000
DTSTAMP:20260425T162806
CREATED:20250424T194159Z
LAST-MODIFIED:20250424T194159Z
UID:548-1763805600-1763814600@hekjefruit.nl
SUMMARY:Werkdag Fruit Oppe Grens
DESCRIPTION:Met een groep vrijwilligers worden de fruitbomen onderhouden. Sommige bomen hebben snoei in het vroege voorjaar nodig\, andere als ze in het blad zitten of vlak na de oogst. Het snoeiafval wordt opgeruimd en waar mogelijk verwerkt in takkenrillen. Zonodig worden dode bomen verwijderd en nieuwe bomen geplant. Wie tijd en zin heeft\, komt. Iedereen werkt naar eigen kracht en kunnen. Vrijblijvendheid en gezelligheid staan voorop. Wil je een keer meedoen\, kom dan gewoon langs!
URL:https://hekjefruit.nl/event/werkdag-fruit-oppe-grens-22/
LOCATION:Fruitbomen Sittard Oost\, Luxemburghof\, Sittard
ORGANIZER;CN="Snoeigroep Fruit Oppe Grens":MAILTO:info@hekjefruit.nl
END:VEVENT
BEGIN:VEVENT
DTSTART;TZID=Europe/Amsterdam:20251115T093000
DTEND;TZID=Europe/Amsterdam:20251115T130000
DTSTAMP:20260425T162806
CREATED:20250330T200840Z
LAST-MODIFIED:20250330T200840Z
UID:516-1763199000-1763211600@hekjefruit.nl
SUMMARY:Werkdag Lahrhof
DESCRIPTION:Met een groep vrijwilligers worden de fruitbomen onderhouden. Sommige bomen hebben snoei in het vroege voorjaar nodig\, andere als ze in het blad zitten of vlak na de oogst. Het snoeiafval wordt opgeruimd en waar mogelijk verwerkt in takkenrillen. Zonodig worden dode bomen verwijderd en nieuwe bomen geplant. Wie tijd en zin heeft\, komt. Iedereen werkt naar eigen kracht en kunnen. Vrijblijvendheid en gezelligheid staan voorop. Wil je een keer meedoen\, kom dan gewoon langs!
URL:https://hekjefruit.nl/event/werkdag-lahrhof-17/
LOCATION:Boomgaard Lahrhof\, Lahrstraat 95\, Sittard\, 6137 LG
ORGANIZER;CN="Snoeigroep Lahrhof":MAILTO:info@hekjefruit.nl
END:VEVENT
BEGIN:VEVENT
DTSTART;TZID=Europe/Amsterdam:20251115T093000
DTEND;TZID=Europe/Amsterdam:20251115T120000
DTSTAMP:20260425T162806
CREATED:20250310T205722Z
LAST-MODIFIED:20250310T205722Z
UID:483-1763199000-1763208000@hekjefruit.nl
SUMMARY:Werkdag Pluktuin
DESCRIPTION:De vrijwilligers kweken in de tuin bloemen\, kruiden en kleinfruit. Werkzaamheden zijn planten\, wieden en watergeven. En daarnaast gezellig samen-zijn. Wil je een keer meedoen\, kom dan gewoon langs!
URL:https://hekjefruit.nl/event/werkdag-pluktuin-20/
LOCATION:Pluktuin Marina Poussart\, Luxemburghof\, Sittard\, 6137 LK
ORGANIZER;CN="Pluktuingroep":MAILTO:info@hekjefruit.nl
END:VEVENT
BEGIN:VEVENT
DTSTART;TZID=Europe/Amsterdam:20251101T093000
DTEND;TZID=Europe/Amsterdam:20251101T120000
DTSTAMP:20260425T162806
CREATED:20250310T205721Z
LAST-MODIFIED:20250310T205721Z
UID:482-1761989400-1761998400@hekjefruit.nl
SUMMARY:Werkdag Pluktuin
DESCRIPTION:De vrijwilligers kweken in de tuin bloemen\, kruiden en kleinfruit. Werkzaamheden zijn planten\, wieden en watergeven. En daarnaast gezellig samen-zijn. Wil je een keer meedoen\, kom dan gewoon langs!
URL:https://hekjefruit.nl/event/werkdag-pluktuin-19/
LOCATION:Pluktuin Marina Poussart\, Luxemburghof\, Sittard\, 6137 LK
ORGANIZER;CN="Pluktuingroep":MAILTO:info@hekjefruit.nl
END:VEVENT
BEGIN:VEVENT
DTSTART;TZID=Europe/Amsterdam:20251025T100000
DTEND;TZID=Europe/Amsterdam:20251025T123000
DTSTAMP:20260425T162806
CREATED:20250424T194159Z
LAST-MODIFIED:20250424T194159Z
UID:547-1761386400-1761395400@hekjefruit.nl
SUMMARY:Werkdag Fruit Oppe Grens
DESCRIPTION:Met een groep vrijwilligers worden de fruitbomen onderhouden. Sommige bomen hebben snoei in het vroege voorjaar nodig\, andere als ze in het blad zitten of vlak na de oogst. Het snoeiafval wordt opgeruimd en waar mogelijk verwerkt in takkenrillen. Zonodig worden dode bomen verwijderd en nieuwe bomen geplant. Wie tijd en zin heeft\, komt. Iedereen werkt naar eigen kracht en kunnen. Vrijblijvendheid en gezelligheid staan voorop. Wil je een keer meedoen\, kom dan gewoon langs!
URL:https://hekjefruit.nl/event/werkdag-fruit-oppe-grens-21/
LOCATION:Fruitbomen Sittard Oost\, Luxemburghof\, Sittard
ORGANIZER;CN="Snoeigroep Fruit Oppe Grens":MAILTO:info@hekjefruit.nl
END:VEVENT
BEGIN:VEVENT
DTSTART;TZID=Europe/Amsterdam:20251018T093000
DTEND;TZID=Europe/Amsterdam:20251018T130000
DTSTAMP:20260425T162806
CREATED:20250330T200840Z
LAST-MODIFIED:20250330T200840Z
UID:515-1760779800-1760792400@hekjefruit.nl
SUMMARY:Werkdag Lahrhof
DESCRIPTION:Met een groep vrijwilligers worden de fruitbomen onderhouden. Sommige bomen hebben snoei in het vroege voorjaar nodig\, andere als ze in het blad zitten of vlak na de oogst. Het snoeiafval wordt opgeruimd en waar mogelijk verwerkt in takkenrillen. Zonodig worden dode bomen verwijderd en nieuwe bomen geplant. Wie tijd en zin heeft\, komt. Iedereen werkt naar eigen kracht en kunnen. Vrijblijvendheid en gezelligheid staan voorop. Wil je een keer meedoen\, kom dan gewoon langs!
URL:https://hekjefruit.nl/event/werkdag-lahrhof-16/
LOCATION:Boomgaard Lahrhof\, Lahrstraat 95\, Sittard\, 6137 LG
ORGANIZER;CN="Snoeigroep Lahrhof":MAILTO:info@hekjefruit.nl
END:VEVENT
BEGIN:VEVENT
DTSTART;TZID=Europe/Amsterdam:20251018T093000
DTEND;TZID=Europe/Amsterdam:20251018T120000
DTSTAMP:20260425T162806
CREATED:20250310T205721Z
LAST-MODIFIED:20250310T205721Z
UID:481-1760779800-1760788800@hekjefruit.nl
SUMMARY:Werkdag Pluktuin
DESCRIPTION:De vrijwilligers kweken in de tuin bloemen\, kruiden en kleinfruit. Werkzaamheden zijn planten\, wieden en watergeven. En daarnaast gezellig samen-zijn. Wil je een keer meedoen\, kom dan gewoon langs!
URL:https://hekjefruit.nl/event/werkdag-pluktuin-18/
LOCATION:Pluktuin Marina Poussart\, Luxemburghof\, Sittard\, 6137 LK
ORGANIZER;CN="Pluktuingroep":MAILTO:info@hekjefruit.nl
END:VEVENT
BEGIN:VEVENT
DTSTART;TZID=Europe/Helsinki:20251005T120000
DTEND;TZID=Europe/Helsinki:20251005T170000
DTSTAMP:20260425T162806
CREATED:20250514T121340Z
LAST-MODIFIED:20250514T121341Z
UID:563-1759665600-1759683600@hekjefruit.nl
SUMMARY:Sapdag 2025
DESCRIPTION:Jaarlijkse Sapdag in de boomgaard Lahrhof. Natuurlijk met de mobiele fruitpers\, een gezellige markt en enkele optredens. Zodra bekend verschijnen de details elders op deze website.
URL:https://hekjefruit.nl/event/sapdag-2025/
LOCATION:Boomgaard Lahrhof\, Lahrstraat 95\, Sittard\, 6137 LG
ORGANIZER;CN="#FRUIT":MAILTO:info@hekjefruit.nl
END:VEVENT
BEGIN:VEVENT
DTSTART;TZID=Europe/Amsterdam:20251004T093000
DTEND;TZID=Europe/Amsterdam:20251004T120000
DTSTAMP:20260425T162806
CREATED:20250310T205706Z
LAST-MODIFIED:20250310T205706Z
UID:480-1759570200-1759579200@hekjefruit.nl
SUMMARY:Werkdag Pluktuin
DESCRIPTION:De vrijwilligers kweken in de tuin bloemen\, kruiden en kleinfruit. Werkzaamheden zijn planten\, wieden en watergeven. En daarnaast gezellig samen-zijn. Wil je een keer meedoen\, kom dan gewoon langs!
URL:https://hekjefruit.nl/event/werkdag-pluktuin-17/
LOCATION:Pluktuin Marina Poussart\, Luxemburghof\, Sittard\, 6137 LK
ORGANIZER;CN="Pluktuingroep":MAILTO:info@hekjefruit.nl
END:VEVENT
BEGIN:VEVENT
DTSTART;TZID=Europe/Amsterdam:20250927T100000
DTEND;TZID=Europe/Amsterdam:20250927T123000
DTSTAMP:20260425T162806
CREATED:20250424T194159Z
LAST-MODIFIED:20250424T194159Z
UID:546-1758967200-1758976200@hekjefruit.nl
SUMMARY:Werkdag Fruit Oppe Grens
DESCRIPTION:Met een groep vrijwilligers worden de fruitbomen onderhouden. Sommige bomen hebben snoei in het vroege voorjaar nodig\, andere als ze in het blad zitten of vlak na de oogst. Het snoeiafval wordt opgeruimd en waar mogelijk verwerkt in takkenrillen. Zonodig worden dode bomen verwijderd en nieuwe bomen geplant. Wie tijd en zin heeft\, komt. Iedereen werkt naar eigen kracht en kunnen. Vrijblijvendheid en gezelligheid staan voorop. Wil je een keer meedoen\, kom dan gewoon langs!
URL:https://hekjefruit.nl/event/werkdag-fruit-oppe-grens-20/
LOCATION:Fruitbomen Sittard Oost\, Luxemburghof\, Sittard
ORGANIZER;CN="Snoeigroep Fruit Oppe Grens":MAILTO:info@hekjefruit.nl
END:VEVENT
BEGIN:VEVENT
DTSTART;TZID=Europe/Amsterdam:20250924T190000
DTEND;TZID=Europe/Amsterdam:20250924T210000
DTSTAMP:20260425T162806
CREATED:20250310T205706Z
LAST-MODIFIED:20250310T205706Z
UID:479-1758740400-1758747600@hekjefruit.nl
SUMMARY:Werkavond Pluktuin met nazit
DESCRIPTION:De vrijwilligers kweken in de tuin bloemen\, kruiden en kleinfruit. Werkzaamheden zijn planten\, wieden en watergeven. En daarnaast gezellig samen-zijn. Wil je een keer meedoen\, kom dan gewoon langs! De werkavond wordt afgesloten met een drankje\, een hapje en een praatje.
URL:https://hekjefruit.nl/event/werkavond-pluktuin-met-nazit-5/
LOCATION:Pluktuin Marina Poussart\, Luxemburghof\, Sittard\, 6137 LK
ORGANIZER;CN="Pluktuingroep":MAILTO:info@hekjefruit.nl
END:VEVENT
BEGIN:VEVENT
DTSTART;TZID=Europe/Helsinki:20250921T120000
DTEND;TZID=Europe/Helsinki:20250921T170000
DTSTAMP:20260425T162806
CREATED:20250915T145224Z
LAST-MODIFIED:20250915T164333Z
UID:582-1758456000-1758474000@hekjefruit.nl
SUMMARY:Geheime Tuinen Festival
DESCRIPTION:Het Geheime Tuinen Festival wordt gehouden op diverse locaties in Sittard (zie: https://geheimetuinen.nl/agenda/). Stichting #FRUIT staat met een stand in de Tuin Agnetenberg (ingang via Engelenkampstraat naast kantoor ZOwonen).
URL:https://hekjefruit.nl/event/geheime-tuinen-festival/
LOCATION:Agneten Tuin\, Engelenkampstraat 25\, Sittard\, 6131 JD
END:VEVENT
BEGIN:VEVENT
DTSTART;TZID=Europe/Amsterdam:20250920T100000
DTEND;TZID=Europe/Amsterdam:20250920T123000
DTSTAMP:20260425T162806
CREATED:20250330T200925Z
LAST-MODIFIED:20250424T191722Z
UID:528-1758362400-1758371400@hekjefruit.nl
SUMMARY:Werkdag Fruit Oppe Grens
DESCRIPTION:Met een groep vrijwilligers worden de fruitbomen onderhouden. Sommige bomen hebben snoei in het vroege voorjaar nodig\, andere als ze in het blad zitten of vlak na de oogst. Het snoeiafval wordt opgeruimd en waar mogelijk verwerkt in takkenrillen. Zonodig worden dode bomen verwijderd en nieuwe bomen geplant. Wie tijd en zin heeft\, komt. Iedereen werkt naar eigen kracht en kunnen. Vrijblijvendheid en gezelligheid staan voorop. Wil je een keer meedoen\, kom dan gewoon langs!
URL:https://hekjefruit.nl/event/werkdag-fruit-oppe-grens-19/
LOCATION:Fruitbomen Sittard Oost\, Luxemburghof\, Sittard
ORGANIZER;CN="Snoeigroep Fruit Oppe Grens":MAILTO:info@hekjefruit.nl
END:VEVENT
BEGIN:VEVENT
DTSTART;TZID=Europe/Amsterdam:20250920T093000
DTEND;TZID=Europe/Amsterdam:20250920T130000
DTSTAMP:20260425T162806
CREATED:20250330T200839Z
LAST-MODIFIED:20250330T200839Z
UID:514-1758360600-1758373200@hekjefruit.nl
SUMMARY:Werkdag Lahrhof
DESCRIPTION:Met een groep vrijwilligers worden de fruitbomen onderhouden. Sommige bomen hebben snoei in het vroege voorjaar nodig\, andere als ze in het blad zitten of vlak na de oogst. Het snoeiafval wordt opgeruimd en waar mogelijk verwerkt in takkenrillen. Zonodig worden dode bomen verwijderd en nieuwe bomen geplant. Wie tijd en zin heeft\, komt. Iedereen werkt naar eigen kracht en kunnen. Vrijblijvendheid en gezelligheid staan voorop. Wil je een keer meedoen\, kom dan gewoon langs!
URL:https://hekjefruit.nl/event/werkdag-lahrhof-15/
LOCATION:Boomgaard Lahrhof\, Lahrstraat 95\, Sittard\, 6137 LG
ORGANIZER;CN="Snoeigroep Lahrhof":MAILTO:info@hekjefruit.nl
END:VEVENT
BEGIN:VEVENT
DTSTART;TZID=Europe/Amsterdam:20250920T093000
DTEND;TZID=Europe/Amsterdam:20250920T120000
DTSTAMP:20260425T162806
CREATED:20250310T205706Z
LAST-MODIFIED:20250310T205706Z
UID:478-1758360600-1758369600@hekjefruit.nl
SUMMARY:Werkdag Pluktuin
DESCRIPTION:De vrijwilligers kweken in de tuin bloemen\, kruiden en kleinfruit. Werkzaamheden zijn planten\, wieden en watergeven. En daarnaast gezellig samen-zijn. Wil je een keer meedoen\, kom dan gewoon langs!
URL:https://hekjefruit.nl/event/werkdag-pluktuin-16/
LOCATION:Pluktuin Marina Poussart\, Luxemburghof\, Sittard\, 6137 LK
ORGANIZER;CN="Pluktuingroep":MAILTO:info@hekjefruit.nl
END:VEVENT
BEGIN:VEVENT
DTSTART;TZID=Europe/Amsterdam:20250913T100000
DTEND;TZID=Europe/Amsterdam:20250913T123000
DTSTAMP:20260425T162806
CREATED:20250330T200925Z
LAST-MODIFIED:20250330T200925Z
UID:527-1757757600-1757766600@hekjefruit.nl
SUMMARY:Werkdag Fruit Oppe Grens
DESCRIPTION:Met een groep vrijwilligers worden de fruitbomen onderhouden. Sommige bomen hebben snoei in het vroege voorjaar nodig\, andere als ze in het blad zitten of vlak na de oogst. Het snoeiafval wordt opgeruimd en waar mogelijk verwerkt in takkenrillen. Zonodig worden dode bomen verwijderd en nieuwe bomen geplant. Wie tijd en zin heeft\, komt. Iedereen werkt naar eigen kracht en kunnen. Vrijblijvendheid en gezelligheid staan voorop. Wil je een keer meedoen\, kom dan gewoon langs!
URL:https://hekjefruit.nl/event/werkdag-fruit-oppe-grens-18/
LOCATION:Fruitbomen Sittard Oost\, Luxemburghof\, Sittard
ORGANIZER;CN="Snoeigroep Fruit Oppe Grens":MAILTO:info@hekjefruit.nl
END:VEVENT
BEGIN:VEVENT
DTSTART;TZID=Europe/Amsterdam:20250906T093000
DTEND;TZID=Europe/Amsterdam:20250906T120000
DTSTAMP:20260425T162806
CREATED:20250310T205705Z
LAST-MODIFIED:20250310T205705Z
UID:477-1757151000-1757160000@hekjefruit.nl
SUMMARY:Werkdag Pluktuin
DESCRIPTION:De vrijwilligers kweken in de tuin bloemen\, kruiden en kleinfruit. Werkzaamheden zijn planten\, wieden en watergeven. En daarnaast gezellig samen-zijn. Wil je een keer meedoen\, kom dan gewoon langs!
URL:https://hekjefruit.nl/event/werkdag-pluktuin-15/
LOCATION:Pluktuin Marina Poussart\, Luxemburghof\, Sittard\, 6137 LK
ORGANIZER;CN="Pluktuingroep":MAILTO:info@hekjefruit.nl
END:VEVENT
BEGIN:VEVENT
DTSTART;TZID=Europe/Amsterdam:20250827T190000
DTEND;TZID=Europe/Amsterdam:20250827T210000
DTSTAMP:20260425T162806
CREATED:20250310T205705Z
LAST-MODIFIED:20250310T205705Z
UID:476-1756321200-1756328400@hekjefruit.nl
SUMMARY:Werkavond Pluktuin met nazit
DESCRIPTION:De vrijwilligers kweken in de tuin bloemen\, kruiden en kleinfruit. Werkzaamheden zijn planten\, wieden en watergeven. En daarnaast gezellig samen-zijn. Wil je een keer meedoen\, kom dan gewoon langs! De werkavond wordt afgesloten met een drankje\, een hapje en een praatje.
URL:https://hekjefruit.nl/event/werkavond-pluktuin-met-nazit-4/
LOCATION:Pluktuin Marina Poussart\, Luxemburghof\, Sittard\, 6137 LK
ORGANIZER;CN="Pluktuingroep":MAILTO:info@hekjefruit.nl
END:VEVENT
BEGIN:VEVENT
DTSTART;TZID=Europe/Amsterdam:20250823T100000
DTEND;TZID=Europe/Amsterdam:20250823T123000
DTSTAMP:20260425T162806
CREATED:20250330T200912Z
LAST-MODIFIED:20250424T190840Z
UID:526-1755943200-1755952200@hekjefruit.nl
SUMMARY:Werkdag Fruit Oppe Grens
DESCRIPTION:Met een groep vrijwilligers worden de fruitbomen onderhouden. Sommige bomen hebben snoei in het vroege voorjaar nodig\, andere als ze in het blad zitten of vlak na de oogst. Het snoeiafval wordt opgeruimd en waar mogelijk verwerkt in takkenrillen. Zonodig worden dode bomen verwijderd en nieuwe bomen geplant. Wie tijd en zin heeft\, komt. Iedereen werkt naar eigen kracht en kunnen. Vrijblijvendheid en gezelligheid staan voorop. Wil je een keer meedoen\, kom dan gewoon langs!
URL:https://hekjefruit.nl/event/werkdag-fruit-oppe-grens-17/
LOCATION:Fruitbomen Sittard Oost\, Luxemburghof\, Sittard
ORGANIZER;CN="Snoeigroep Fruit Oppe Grens":MAILTO:info@hekjefruit.nl
END:VEVENT
BEGIN:VEVENT
DTSTART;TZID=Europe/Amsterdam:20250816T093000
DTEND;TZID=Europe/Amsterdam:20250816T130000
DTSTAMP:20260425T162806
CREATED:20250330T200839Z
LAST-MODIFIED:20250330T200839Z
UID:513-1755336600-1755349200@hekjefruit.nl
SUMMARY:Werkdag Lahrhof
DESCRIPTION:Met een groep vrijwilligers worden de fruitbomen onderhouden. Sommige bomen hebben snoei in het vroege voorjaar nodig\, andere als ze in het blad zitten of vlak na de oogst. Het snoeiafval wordt opgeruimd en waar mogelijk verwerkt in takkenrillen. Zonodig worden dode bomen verwijderd en nieuwe bomen geplant. Wie tijd en zin heeft\, komt. Iedereen werkt naar eigen kracht en kunnen. Vrijblijvendheid en gezelligheid staan voorop. Wil je een keer meedoen\, kom dan gewoon langs!
URL:https://hekjefruit.nl/event/werkdag-lahrhof-14/
LOCATION:Boomgaard Lahrhof\, Lahrstraat 95\, Sittard\, 6137 LG
ORGANIZER;CN="Snoeigroep Lahrhof":MAILTO:info@hekjefruit.nl
END:VEVENT
BEGIN:VEVENT
DTSTART;TZID=Europe/Amsterdam:20250816T093000
DTEND;TZID=Europe/Amsterdam:20250816T120000
DTSTAMP:20260425T162806
CREATED:20250310T205651Z
LAST-MODIFIED:20250310T205651Z
UID:475-1755336600-1755345600@hekjefruit.nl
SUMMARY:Werkdag Pluktuin
DESCRIPTION:De vrijwilligers kweken in de tuin bloemen\, kruiden en kleinfruit. Werkzaamheden zijn planten\, wieden en watergeven. En daarnaast gezellig samen-zijn. Wil je een keer meedoen\, kom dan gewoon langs!
URL:https://hekjefruit.nl/event/werkdag-pluktuin-14/
LOCATION:Pluktuin Marina Poussart\, Luxemburghof\, Sittard\, 6137 LK
ORGANIZER;CN="Pluktuingroep":MAILTO:info@hekjefruit.nl
END:VEVENT
BEGIN:VEVENT
DTSTART;TZID=Europe/Amsterdam:20250809T100000
DTEND;TZID=Europe/Amsterdam:20250809T123000
DTSTAMP:20260425T162806
CREATED:20250330T200911Z
LAST-MODIFIED:20250330T200911Z
UID:525-1754733600-1754742600@hekjefruit.nl
SUMMARY:Werkdag Fruit Oppe Grens
DESCRIPTION:Met een groep vrijwilligers worden de fruitbomen onderhouden. Sommige bomen hebben snoei in het vroege voorjaar nodig\, andere als ze in het blad zitten of vlak na de oogst. Het snoeiafval wordt opgeruimd en waar mogelijk verwerkt in takkenrillen. Zonodig worden dode bomen verwijderd en nieuwe bomen geplant. Wie tijd en zin heeft\, komt. Iedereen werkt naar eigen kracht en kunnen. Vrijblijvendheid en gezelligheid staan voorop. Wil je een keer meedoen\, kom dan gewoon langs!
URL:https://hekjefruit.nl/event/werkdag-fruit-oppe-grens-16/
LOCATION:Fruitbomen Sittard Oost\, Luxemburghof\, Sittard
ORGANIZER;CN="Snoeigroep Fruit Oppe Grens":MAILTO:info@hekjefruit.nl
END:VEVENT
BEGIN:VEVENT
DTSTART;TZID=Europe/Amsterdam:20250802T093000
DTEND;TZID=Europe/Amsterdam:20250802T120000
DTSTAMP:20260425T162806
CREATED:20250310T205651Z
LAST-MODIFIED:20250310T205651Z
UID:474-1754127000-1754136000@hekjefruit.nl
SUMMARY:Werkdag Pluktuin
DESCRIPTION:De vrijwilligers kweken in de tuin bloemen\, kruiden en kleinfruit. Werkzaamheden zijn planten\, wieden en watergeven. En daarnaast gezellig samen-zijn. Wil je een keer meedoen\, kom dan gewoon langs!
URL:https://hekjefruit.nl/event/werkdag-pluktuin-13/
LOCATION:Pluktuin Marina Poussart\, Luxemburghof\, Sittard\, 6137 LK
ORGANIZER;CN="Pluktuingroep":MAILTO:info@hekjefruit.nl
END:VEVENT
BEGIN:VEVENT
DTSTART;TZID=Europe/Amsterdam:20250730T190000
DTEND;TZID=Europe/Amsterdam:20250730T210000
DTSTAMP:20260425T162806
CREATED:20250310T205650Z
LAST-MODIFIED:20250310T205650Z
UID:473-1753902000-1753909200@hekjefruit.nl
SUMMARY:Werkavond Pluktuin met nazit
DESCRIPTION:De vrijwilligers kweken in de tuin bloemen\, kruiden en kleinfruit. Werkzaamheden zijn planten\, wieden en watergeven. En daarnaast gezellig samen-zijn. Wil je een keer meedoen\, kom dan gewoon langs! De werkavond wordt afgesloten met een drankje\, een hapje en een praatje.
URL:https://hekjefruit.nl/event/werkavond-pluktuin-met-nazit-3/
LOCATION:Pluktuin Marina Poussart\, Luxemburghof\, Sittard\, 6137 LK
ORGANIZER;CN="Pluktuingroep":MAILTO:info@hekjefruit.nl
END:VEVENT
BEGIN:VEVENT
DTSTART;TZID=Europe/Amsterdam:20250726T100000
DTEND;TZID=Europe/Amsterdam:20250726T123000
DTSTAMP:20260425T162806
CREATED:20250330T200911Z
LAST-MODIFIED:20250424T190743Z
UID:524-1753524000-1753533000@hekjefruit.nl
SUMMARY:Werkdag Fruit Oppe Grens
DESCRIPTION:Met een groep vrijwilligers worden de fruitbomen onderhouden. Sommige bomen hebben snoei in het vroege voorjaar nodig\, andere als ze in het blad zitten of vlak na de oogst. Het snoeiafval wordt opgeruimd en waar mogelijk verwerkt in takkenrillen. Zonodig worden dode bomen verwijderd en nieuwe bomen geplant. Wie tijd en zin heeft\, komt. Iedereen werkt naar eigen kracht en kunnen. Vrijblijvendheid en gezelligheid staan voorop. Wil je een keer meedoen\, kom dan gewoon langs!
URL:https://hekjefruit.nl/event/werkdag-fruit-oppe-grens-15/
LOCATION:Fruitbomen Sittard Oost\, Luxemburghof\, Sittard
ORGANIZER;CN="Snoeigroep Fruit Oppe Grens":MAILTO:info@hekjefruit.nl
END:VEVENT
BEGIN:VEVENT
DTSTART;TZID=Europe/Amsterdam:20250719T093000
DTEND;TZID=Europe/Amsterdam:20250719T130000
DTSTAMP:20260425T162806
CREATED:20250330T200839Z
LAST-MODIFIED:20250330T200839Z
UID:512-1752917400-1752930000@hekjefruit.nl
SUMMARY:Werkdag Lahrhof
DESCRIPTION:Met een groep vrijwilligers worden de fruitbomen onderhouden. Sommige bomen hebben snoei in het vroege voorjaar nodig\, andere als ze in het blad zitten of vlak na de oogst. Het snoeiafval wordt opgeruimd en waar mogelijk verwerkt in takkenrillen. Zonodig worden dode bomen verwijderd en nieuwe bomen geplant. Wie tijd en zin heeft\, komt. Iedereen werkt naar eigen kracht en kunnen. Vrijblijvendheid en gezelligheid staan voorop. Wil je een keer meedoen\, kom dan gewoon langs!
URL:https://hekjefruit.nl/event/werkdag-lahrhof-13/
LOCATION:Boomgaard Lahrhof\, Lahrstraat 95\, Sittard\, 6137 LG
ORGANIZER;CN="Snoeigroep Lahrhof":MAILTO:info@hekjefruit.nl
END:VEVENT
BEGIN:VEVENT
DTSTART;TZID=Europe/Amsterdam:20250719T093000
DTEND;TZID=Europe/Amsterdam:20250719T120000
DTSTAMP:20260425T162806
CREATED:20250310T205650Z
LAST-MODIFIED:20250310T205650Z
UID:472-1752917400-1752926400@hekjefruit.nl
SUMMARY:Werkdag Pluktuin
DESCRIPTION:De vrijwilligers kweken in de tuin bloemen\, kruiden en kleinfruit. Werkzaamheden zijn planten\, wieden en watergeven. En daarnaast gezellig samen-zijn. Wil je een keer meedoen\, kom dan gewoon langs!
URL:https://hekjefruit.nl/event/werkdag-pluktuin-12/
LOCATION:Pluktuin Marina Poussart\, Luxemburghof\, Sittard\, 6137 LK
ORGANIZER;CN="Pluktuingroep":MAILTO:info@hekjefruit.nl
END:VEVENT
END:VCALENDAR