BEGIN:VCALENDAR
VERSION:2.0
PRODID:-//Stichting #FRUIT - ECPv6.15.20//NONSGML v1.0//EN
CALSCALE:GREGORIAN
METHOD:PUBLISH
X-WR-CALNAME:Stichting #FRUIT
X-ORIGINAL-URL:https://hekjefruit.nl
X-WR-CALDESC:Evenementen voor Stichting #FRUIT
REFRESH-INTERVAL;VALUE=DURATION:PT1H
X-Robots-Tag:noindex
X-PUBLISHED-TTL:PT1H
BEGIN:VTIMEZONE
TZID:Europe/Amsterdam
BEGIN:DAYLIGHT
TZOFFSETFROM:+0100
TZOFFSETTO:+0200
TZNAME:CEST
DTSTART:20250330T010000
END:DAYLIGHT
BEGIN:STANDARD
TZOFFSETFROM:+0200
TZOFFSETTO:+0100
TZNAME:CET
DTSTART:20251026T010000
END:STANDARD
BEGIN:DAYLIGHT
TZOFFSETFROM:+0100
TZOFFSETTO:+0200
TZNAME:CEST
DTSTART:20260329T010000
END:DAYLIGHT
BEGIN:STANDARD
TZOFFSETFROM:+0200
TZOFFSETTO:+0100
TZNAME:CET
DTSTART:20261025T010000
END:STANDARD
BEGIN:DAYLIGHT
TZOFFSETFROM:+0100
TZOFFSETTO:+0200
TZNAME:CEST
DTSTART:20270328T010000
END:DAYLIGHT
BEGIN:STANDARD
TZOFFSETFROM:+0200
TZOFFSETTO:+0100
TZNAME:CET
DTSTART:20271031T010000
END:STANDARD
END:VTIMEZONE
BEGIN:VEVENT
DTSTART;TZID=Europe/Amsterdam:20260131T100000
DTEND;TZID=Europe/Amsterdam:20260131T130000
DTSTAMP:20260420T133806
CREATED:20260218T191455Z
LAST-MODIFIED:20260218T191455Z
UID:659-1769853600-1769864400@hekjefruit.nl
SUMMARY:Snoeien Kollenberg
DESCRIPTION:Door achterstallig onderhoud zijn vele fruitbomen volledig dichtgegroeid. Hier is een meerjarenaanpak nodig.
URL:https://hekjefruit.nl/event/snoeien-kollenberg/
LOCATION:Fruitweide Kollenberg\, Stanislasstraat 7\, Sittard\, 6132 CZ
CATEGORIES:snoeien
ORGANIZER;CN="Snoeigroep Fruit Oppe Grens &amp%3B Lahrhof":MAILTO:info@hekjefruit.nl
END:VEVENT
END:VCALENDAR